BEGIN:VCALENDAR
VERSION:2.0
PRODID:-//GMU Toastmasters - ECPv6.15.20//NONSGML v1.0//EN
CALSCALE:GREGORIAN
METHOD:PUBLISH
X-WR-CALNAME:GMU Toastmasters
X-ORIGINAL-URL:https://toastmasters.gmu.edu
X-WR-CALDESC:Events for GMU Toastmasters
REFRESH-INTERVAL;VALUE=DURATION:PT1H
X-Robots-Tag:noindex
X-PUBLISHED-TTL:PT1H
BEGIN:VTIMEZONE
TZID:America/New_York
BEGIN:DAYLIGHT
TZOFFSETFROM:-0500
TZOFFSETTO:-0400
TZNAME:EDT
DTSTART:20180311T070000
END:DAYLIGHT
BEGIN:STANDARD
TZOFFSETFROM:-0400
TZOFFSETTO:-0500
TZNAME:EST
DTSTART:20181104T060000
END:STANDARD
BEGIN:DAYLIGHT
TZOFFSETFROM:-0500
TZOFFSETTO:-0400
TZNAME:EDT
DTSTART:20190310T070000
END:DAYLIGHT
BEGIN:STANDARD
TZOFFSETFROM:-0400
TZOFFSETTO:-0500
TZNAME:EST
DTSTART:20191103T060000
END:STANDARD
BEGIN:DAYLIGHT
TZOFFSETFROM:-0500
TZOFFSETTO:-0400
TZNAME:EDT
DTSTART:20200308T070000
END:DAYLIGHT
BEGIN:STANDARD
TZOFFSETFROM:-0400
TZOFFSETTO:-0500
TZNAME:EST
DTSTART:20201101T060000
END:STANDARD
END:VTIMEZONE
BEGIN:VEVENT
DTSTART;TZID=America/New_York:20190703T120000
DTEND;TZID=America/New_York:20190703T130000
DTSTAMP:20260421T232521
CREATED:20190530T183051Z
LAST-MODIFIED:20190530T183051Z
UID:845-1562155200-1562158800@toastmasters.gmu.edu
SUMMARY:NO Meeting - Happy Independence Day!
DESCRIPTION:
URL:https://toastmasters.gmu.edu/event/no-meeting-happy-independence-day/
END:VEVENT
BEGIN:VEVENT
DTSTART;TZID=America/New_York:20190710T120000
DTEND;TZID=America/New_York:20190710T130000
DTSTAMP:20260421T232521
CREATED:20190530T183342Z
LAST-MODIFIED:20190530T183342Z
UID:846-1562760000-1562763600@toastmasters.gmu.edu
SUMMARY:To Travel is to Live - Merten Hall\, 3300
DESCRIPTION:
URL:https://toastmasters.gmu.edu/event/to-travel-is-to-live-merten-hall-3300-2/
LOCATION:Merten Hall\, 3300\, 4400 University Drive\, Fairfax\, VA\, 22030-4444\, United States
END:VEVENT
BEGIN:VEVENT
DTSTART;TZID=America/New_York:20190717T120000
DTEND;TZID=America/New_York:20190717T130000
DTSTAMP:20260421T232521
CREATED:20190530T183513Z
LAST-MODIFIED:20190530T183513Z
UID:847-1563364800-1563368400@toastmasters.gmu.edu
SUMMARY:Feel the fear and do it anyway - Merten Hall\, 3300
DESCRIPTION:
URL:https://toastmasters.gmu.edu/event/feel-the-fear-and-do-it-anyway-merten-hall-3300-2/
LOCATION:Merten Hall\, 3300\, 4400 University Drive\, Fairfax\, VA\, 22030-4444\, United States
END:VEVENT
BEGIN:VEVENT
DTSTART;TZID=America/New_York:20190724T120000
DTEND;TZID=America/New_York:20190724T130000
DTSTAMP:20260421T232521
CREATED:20190530T183723Z
LAST-MODIFIED:20190530T183723Z
UID:848-1563969600-1563973200@toastmasters.gmu.edu
SUMMARY:Boss vs Leader - Merten Hall\, 3300
DESCRIPTION:
URL:https://toastmasters.gmu.edu/event/boss-vs-leader-merten-hall-3300-2/
LOCATION:Merten Hall\, 3300\, 4400 University Drive\, Fairfax\, VA\, 22030-4444\, United States
END:VEVENT
BEGIN:VEVENT
DTSTART;TZID=America/New_York:20190731T120000
DTEND;TZID=America/New_York:20190731T130000
DTSTAMP:20260421T232521
CREATED:20190530T183839Z
LAST-MODIFIED:20190530T183839Z
UID:849-1564574400-1564578000@toastmasters.gmu.edu
SUMMARY:Colors of Life - Merten Hall\, 3300
DESCRIPTION:
URL:https://toastmasters.gmu.edu/event/colors-of-life-merten-hall-3300-2/
LOCATION:Merten Hall\, 3300\, 4400 University Drive\, Fairfax\, VA\, 22030-4444\, United States
END:VEVENT
END:VCALENDAR