BEGIN:VCALENDAR
VERSION:2.0
PRODID:-//GMU Toastmasters - ECPv6.15.20//NONSGML v1.0//EN
CALSCALE:GREGORIAN
METHOD:PUBLISH
X-WR-CALNAME:GMU Toastmasters
X-ORIGINAL-URL:https://toastmasters.gmu.edu
X-WR-CALDESC:Events for GMU Toastmasters
REFRESH-INTERVAL;VALUE=DURATION:PT1H
X-Robots-Tag:noindex
X-PUBLISHED-TTL:PT1H
BEGIN:VTIMEZONE
TZID:America/New_York
BEGIN:DAYLIGHT
TZOFFSETFROM:-0500
TZOFFSETTO:-0400
TZNAME:EDT
DTSTART:20200308T070000
END:DAYLIGHT
BEGIN:STANDARD
TZOFFSETFROM:-0400
TZOFFSETTO:-0500
TZNAME:EST
DTSTART:20201101T060000
END:STANDARD
BEGIN:DAYLIGHT
TZOFFSETFROM:-0500
TZOFFSETTO:-0400
TZNAME:EDT
DTSTART:20210314T070000
END:DAYLIGHT
BEGIN:STANDARD
TZOFFSETFROM:-0400
TZOFFSETTO:-0500
TZNAME:EST
DTSTART:20211107T060000
END:STANDARD
BEGIN:DAYLIGHT
TZOFFSETFROM:-0500
TZOFFSETTO:-0400
TZNAME:EDT
DTSTART:20220313T070000
END:DAYLIGHT
BEGIN:STANDARD
TZOFFSETFROM:-0400
TZOFFSETTO:-0500
TZNAME:EST
DTSTART:20221106T060000
END:STANDARD
END:VTIMEZONE
BEGIN:VEVENT
DTSTART;TZID=America/New_York:20210303T120000
DTEND;TZID=America/New_York:20210303T130000
DTSTAMP:20260425T155745
CREATED:20210204T171219Z
LAST-MODIFIED:20210204T171219Z
UID:1031-1614772800-1614776400@toastmasters.gmu.edu
SUMMARY:Ideal Jobs - Zoom
DESCRIPTION:https://gmu.zoom.us/j/99788866474?pwd=L21UQVJ6dWhOSnphcFN2RUc0aXBEQT09 \nPlease log in 10 minutes early to test video and audio prior to the meeting.
URL:https://toastmasters.gmu.edu/event/ideal-jobs-zoom-2/
ORGANIZER;CN="Christie Michals":MAILTO:cmichal@gmu.edu
END:VEVENT
BEGIN:VEVENT
DTSTART;TZID=America/New_York:20210310T120000
DTEND;TZID=America/New_York:20210310T130000
DTSTAMP:20260425T155745
CREATED:20210204T171431Z
LAST-MODIFIED:20210204T171431Z
UID:1032-1615377600-1615381200@toastmasters.gmu.edu
SUMMARY:Evaluations & Feedback - Zoom
DESCRIPTION:https://gmu.zoom.us/j/99788866474?pwd=L21UQVJ6dWhOSnphcFN2RUc0aXBEQT09 \nPlease log in 10 minutes early to test video and audio prior to the meeting.
URL:https://toastmasters.gmu.edu/event/evaluations-feedback-zoom/
ORGANIZER;CN="Christie Michals":MAILTO:cmichal@gmu.edu
END:VEVENT
BEGIN:VEVENT
DTSTART;TZID=America/New_York:20210317T120000
DTEND;TZID=America/New_York:20210317T130000
DTSTAMP:20260425T155745
CREATED:20210204T172034Z
LAST-MODIFIED:20210305T163626Z
UID:1033-1615982400-1615986000@toastmasters.gmu.edu
SUMMARY:Spring Speech Contest - Zoom
DESCRIPTION:Evaluation Contest \nhttps://gmu.zoom.us/j/99788866474?pwd=L21UQVJ6dWhOSnphcFN2RUc0aXBEQT09 \nPlease log in 10 minutes early to test video and audio prior to the meeting.
URL:https://toastmasters.gmu.edu/event/spring-speech-contest/
ORGANIZER;CN="Christie Michals":MAILTO:cmichal@gmu.edu
END:VEVENT
BEGIN:VEVENT
DTSTART;TZID=America/New_York:20210324T120000
DTEND;TZID=America/New_York:20210324T130000
DTSTAMP:20260425T155745
CREATED:20210204T172829Z
LAST-MODIFIED:20210204T172829Z
UID:1034-1616587200-1616590800@toastmasters.gmu.edu
SUMMARY:Virtual Open House - Zoom
DESCRIPTION:This will be a great chance to see our meeting in action\, and you can have a chance to participate in Table Topics\, impromptu speaking practice\, as well as ask questions about our club! \nhttps://gmu.zoom.us/j/99788866474?pwd=L21UQVJ6dWhOSnphcFN2RUc0aXBEQT09 \nPlease log in 10 minutes early to test video and audio prior to the meeting.
URL:https://toastmasters.gmu.edu/event/virtual-open-house-zoom/
ORGANIZER;CN="Christie Michals":MAILTO:cmichal@gmu.edu
END:VEVENT
BEGIN:VEVENT
DTSTART;TZID=America/New_York:20210331T120000
DTEND;TZID=America/New_York:20210331T130000
DTSTAMP:20260425T155745
CREATED:20210204T180023Z
LAST-MODIFIED:20210204T180023Z
UID:1035-1617192000-1617195600@toastmasters.gmu.edu
SUMMARY:April Fool's -Zoom
DESCRIPTION:https://gmu.zoom.us/j/99788866474?pwd=L21UQVJ6dWhOSnphcFN2RUc0aXBEQT09 \nPlease log in 10 minutes early to test video and audio prior to the meeting.
URL:https://toastmasters.gmu.edu/event/april-fools-zoom/
ORGANIZER;CN="Christie Michals":MAILTO:cmichal@gmu.edu
END:VEVENT
END:VCALENDAR