BEGIN:VCALENDAR
VERSION:2.0
PRODID:-//GMU Toastmasters - ECPv6.15.20//NONSGML v1.0//EN
CALSCALE:GREGORIAN
METHOD:PUBLISH
X-WR-CALNAME:GMU Toastmasters
X-ORIGINAL-URL:https://toastmasters.gmu.edu
X-WR-CALDESC:Events for GMU Toastmasters
REFRESH-INTERVAL;VALUE=DURATION:PT1H
X-Robots-Tag:noindex
X-PUBLISHED-TTL:PT1H
BEGIN:VTIMEZONE
TZID:America/New_York
BEGIN:DAYLIGHT
TZOFFSETFROM:-0500
TZOFFSETTO:-0400
TZNAME:EDT
DTSTART:20250309T070000
END:DAYLIGHT
BEGIN:STANDARD
TZOFFSETFROM:-0400
TZOFFSETTO:-0500
TZNAME:EST
DTSTART:20251102T060000
END:STANDARD
BEGIN:DAYLIGHT
TZOFFSETFROM:-0500
TZOFFSETTO:-0400
TZNAME:EDT
DTSTART:20260308T070000
END:DAYLIGHT
BEGIN:STANDARD
TZOFFSETFROM:-0400
TZOFFSETTO:-0500
TZNAME:EST
DTSTART:20261101T060000
END:STANDARD
BEGIN:DAYLIGHT
TZOFFSETFROM:-0500
TZOFFSETTO:-0400
TZNAME:EDT
DTSTART:20270314T070000
END:DAYLIGHT
BEGIN:STANDARD
TZOFFSETFROM:-0400
TZOFFSETTO:-0500
TZNAME:EST
DTSTART:20271107T060000
END:STANDARD
END:VTIMEZONE
BEGIN:VEVENT
DTSTART;TZID=America/New_York:20260429T120000
DTEND;TZID=America/New_York:20260429T130000
DTSTAMP:20260424T233551
CREATED:20251210T204458Z
LAST-MODIFIED:20251210T204458Z
UID:1682-1777464000-1777467600@toastmasters.gmu.edu
SUMMARY:ZOOM -Dance\, Like No One is Watching
DESCRIPTION:https://gmu.zoom.us/j/92040099533?pwd=SzlDMGRvbEVrZFVJdGVmTUw1NlpPUT09 \nPlease log in 10 minutes early to test video and audio prior to the meeting.
URL:https://toastmasters.gmu.edu/event/zoom-dance-like-no-one-is-watching/
ORGANIZER;CN="Ronda Hetterson":MAILTO:rhetters@gmu.edu
END:VEVENT
END:VCALENDAR